BEGIN:VCALENDAR
VERSION:2.0
PRODID:-//VolunteeringACT - ECPv5.0.2//NONSGML v1.0//EN
CALSCALE:GREGORIAN
METHOD:PUBLISH
X-WR-CALNAME:VolunteeringACT
X-ORIGINAL-URL:https://www.volunteeringact.org.au
X-WR-CALDESC:Events for VolunteeringACT
BEGIN:VTIMEZONE
TZID:UTC
BEGIN:STANDARD
TZOFFSETFROM:+0000
TZOFFSETTO:+0000
TZNAME:UTC
DTSTART:20200101T000000
END:STANDARD
END:VTIMEZONE
BEGIN:VEVENT
DTSTART;TZID=UTC:20200312T123000
DTEND;TZID=UTC:20200312T140000
DTSTAMP:20200301T024151
CREATED:20200131T032157Z
LAST-MODIFIED:20200227T042055Z
UID:5868-1584016200-1584021600@www.volunteeringact.org.au
SUMMARY:Promoting Services and Events Online
DESCRIPTION:This information session will walk you through how to use the ACT Community Directory and Diary to promote your organisation’s services and public events.  You will learn how to edit\, control and share information through the Directory and Diary\, and how these online platforms can be used as a tool to refer and support clients through access to information about services. \n
URL:https://www.volunteeringact.org.au/event/promoting-services-and-events-online/
LOCATION:VolunteeringACT Head Office\, Level 2\, 202 City Walk\, Canberra\, ACT\, 2601\, Australia
CATEGORIES:For the Community,For Volunteer Involving Organisations
ATTACH;FMTTYPE=image/jpeg:https://www.volunteeringact.org.au/wp-content/uploads/2019/10/AG-Community-diary.jpg
ORGANIZER;CN="VolunteeringACT":MAILTO:events@volunteeringact.org.au
END:VEVENT
END:VCALENDAR